BEGIN:VCALENDAR
VERSION:2.0
BEGIN:VEVENT
SUMMARY:Reach out to New England Ocean Cluster about The Hatchery
DESCRIPTION:Reach out to them for information about their program.\n\nDescription: An open-ended, inclusive incubator for pre-revenue founders developing ocean-related or ocean-adjacent ventures. Launched formally in January 2024 after a 12-month pilot, it connects founders with mentors, a collaborative community at the Hús, business development experts, and graduate/undergraduate research support.\n\n- Phone: (207) 408-5391\n- Email: patrick.arnold@newenglandoceancluster.com\n- Source: https://founder-nav.com/programs/recYYBysVGRroKUat\n\n---\nBrought to you by Founder Nav, helping entrepreneurs navigate the entrepreneurial ecosystem.
DTSTART:20260425T100031Z
DTEND:20260425T103031Z
END:VEVENT
END:VCALENDAR