BEGIN:VCALENDAR
VERSION:2.0
BEGIN:VEVENT
SUMMARY:Reach out to Norcal APEX Accelerator about APEX Accelerator Government Contracting Assistance
DESCRIPTION:Reach out to them for information about their program.\n\nDescription: Provides confidential, no-cost advising and resources to help businesses compete for and win government contracts, offering one-on-one counseling, custom bid matching, and training to support success in local, state, and federal procurement.\n\n- Phone: (707) 267-7561\n- Email: info@apexnorcal.org\n- Source: https://founder-nav.com/programs/recYSVx2mCMknK4Qt\n\n---\nBrought to you by Founder Nav, helping entrepreneurs navigate the entrepreneurial ecosystem.
DTSTART:20260425T100031Z
DTEND:20260425T103031Z
END:VEVENT
END:VCALENDAR