BEGIN:VCALENDAR
VERSION:2.0
BEGIN:VEVENT
SUMMARY:Reach out to Mission Edge about Impact Lab Finance Coaching
DESCRIPTION:Reach out to them for information about their program.\n\nDescription: A free 10-week finance coaching program from Mission Edge helping nonprofits and social enterprises strengthen financial management and sustainability.\n\n- Email: info@missionedge.org\n- Source: https://founder-nav.com/programs/recYR7D2douEBcV5G\n\n---\nBrought to you by Founder Nav, helping entrepreneurs navigate the entrepreneurial ecosystem.
DTSTART:20260425T100044Z
DTEND:20260425T103044Z
END:VEVENT
END:VCALENDAR