BEGIN:VCALENDAR
VERSION:2.0
BEGIN:VEVENT
SUMMARY:Reach out to UC San Diego Office of Innovation & Commercialization about Venture Catalyst Program
DESCRIPTION:Reach out to them for information about their program.\n\nDescription: Removes barriers to capital for investment-ready startups and small businesses by providing training, mentoring, and investor introductions, fostering innovation and workforce growth in the region. Selected companies receive support to enhance investment preparedness and business development.\n\n- Phone: (858) 534-2230\n- Email: gsands@ucsd.edu\n- Source: https://founder-nav.com/programs/recYM7wDLCcOKrnHm\n\n---\nBrought to you by Founder Nav, helping entrepreneurs navigate the entrepreneurial ecosystem.
DTSTART:20260425T100020Z
DTEND:20260425T103020Z
END:VEVENT
END:VCALENDAR