BEGIN:VCALENDAR
VERSION:2.0
BEGIN:VEVENT
SUMMARY:Reach out to Maine Center for Entrepreneurs (MCE) about MCE Compass (Outdoor Industry Program)
DESCRIPTION:Reach out to them for information about their program.\n\nDescription: An accelerator cohort program supporting Maine's outdoor recreation industry businesses with targeted mentoring, coaching, and strategic resources tailored to the outdoor sector.\n\n- Source: https://founder-nav.com/programs/recYGfQIMNYThmObb\n\n---\nBrought to you by Founder Nav, helping entrepreneurs navigate the entrepreneurial ecosystem.
DTSTART:20260425T100038Z
DTEND:20260425T103038Z
END:VEVENT
END:VCALENDAR