BEGIN:VCALENDAR
VERSION:2.0
BEGIN:VEVENT
SUMMARY:Reach out to Talbot County about Talbot Works Business Academy
DESCRIPTION:Reach out to them for information about their program.\n\nDescription: Free 8-week online entrepreneurship course for Talbot County small and minority business owners, covering business infrastructure, growth, marketing, financials, and capital readiness. Limited to 15 participants per cohort.\n\n- Phone: (410) 770-8058\n- Source: https://founder-nav.com/programs/recY3eOWvxPQIPGdb\n\n---\nBrought to you by Founder Nav, helping entrepreneurs navigate the entrepreneurial ecosystem.
DTSTART:20260425T100046Z
DTEND:20260425T103046Z
END:VEVENT
END:VCALENDAR