BEGIN:VCALENDAR
VERSION:2.0
BEGIN:VEVENT
SUMMARY:Reach out to Wichita State University – Center for Entrepreneurship about Growing Rural Businesses
DESCRIPTION:Reach out to them for information about their program.\n\nDescription: 8-week in-person certificate program co-developed by WSU's Center for Entrepreneurship and NetWork Kansas to help rural business owners spark momentum, adapt to changing markets, and build sustainable growth using modern strategies.\n\n- Phone: (316) 978-6269\n- Email: nancy.kersenbrock@wichita.edu\n- Source: https://founder-nav.com/programs/recXy8EhlCPZhTydY\n\n---\nBrought to you by Founder Nav, helping entrepreneurs navigate the entrepreneurial ecosystem.
DTSTART:20260425T100043Z
DTEND:20260425T103043Z
END:VEVENT
END:VCALENDAR