BEGIN:VCALENDAR
VERSION:2.0
BEGIN:VEVENT
SUMMARY:Reach out to Scalerator about Scalerator NEO
DESCRIPTION:Reach out to them for information about their program.\n\nDescription: A proven, results-driven 6-month cohort-based program to help entrepreneurial leaders quickly, profitably and sustainably grow their business.\n\n- Email: bbush@manufacturingsuccess.org\n- Source: https://founder-nav.com/programs/recXuASX6AilIq3KA\n\n---\nBrought to you by Founder Nav, helping entrepreneurs navigate the entrepreneurial ecosystem.
DTSTART:20260425T100045Z
DTEND:20260425T103045Z
END:VEVENT
END:VCALENDAR