BEGIN:VCALENDAR
VERSION:2.0
BEGIN:VEVENT
SUMMARY:Reach out to Center for Industrial Research and Service (CIRAS) about Business Strategy & Innovation Services
DESCRIPTION:Reach out to them for information about their program.\n\nDescription: Executive-level strategy consulting and innovation advisory services for Iowa manufacturers and businesses pursuing growth, transformation, and competitive differentiation.\n\n- Email: ciras@iastate.edu\n- Source: https://founder-nav.com/programs/recXrAHRj9X0KMspZ\n\n---\nBrought to you by Founder Nav, helping entrepreneurs navigate the entrepreneurial ecosystem.
DTSTART:20260425T100045Z
DTEND:20260425T103045Z
END:VEVENT
END:VCALENDAR