BEGIN:VCALENDAR
VERSION:2.0
BEGIN:VEVENT
SUMMARY:Reach out to Greater Hartford Gives Foundation about Nonprofit Support Program
DESCRIPTION:Reach out to them for information about their program.\n\nDescription: Planning: Helps organizations set priorities and define a purposeful direction for future growth.\n\nBoards: Strengthens board engagement to maximize organizational impact.\n\nCEO Transition: Guides leadership changes for reflection, assessment, and long-term success.\n\nManaging Finances: Supports nonprofits in achieving long-term financial sustainability.\n\nFundraising & Marketing: Mobilizes supporters to advance the organization’s mission.\n\nTechnology: Enhances mission delivery through strategic technology use.\n\nLeadership Development: Cultivates effective leadership for organizational success.\n\nCollaboration & Merger: Facilitates partnerships to increase capacity and impact.\n\nEvaluation: Fosters a culture of learning and continuous improvement.\n\nSmall Nonprofits: Builds sustainable infrastructure for organizations with limited revenue.\n\nSocial Enterprise: Assists in launching or expanding mission-driven, revenue-generating ventures.\n\nLegal Issues: Minimizes legal risks and ensures regulatory compliance.\n\nHuman Resources: Improves HR systems and practices for organizational health.\n\nGrants: Provides access to funding opportunities for nonprofits.\n\nAdditional Resources: Connects organizations with helpful community resources.\n\n- Phone: (860) 548-1888\n- Email: wamoakoh@greaterhartfordgives.org\n- Source: https://founder-nav.com/programs/recXq6NC82t4f44S9\n\n---\nBrought to you by Founder Nav, helping entrepreneurs navigate the entrepreneurial ecosystem.
DTSTART:20260425T100017Z
DTEND:20260425T103017Z
END:VEVENT
END:VCALENDAR