BEGIN:VCALENDAR
VERSION:2.0
BEGIN:VEVENT
SUMMARY:Reach out to Latino Economic Development Center White Oak about InBusiness Small Business Training & Coaching (White Oak)
DESCRIPTION:Reach out to them for information about their program.\n\nDescription: Bilingual (English/Spanish) workshops and one-on-one coaching for small business owners covering business planning, financial projections, and marketing strategies. Offered at the White Oak location: 12520 Prosperity Dr., Suite 200, Silver Spring, MD 20904. Delivered by LEDC, a CDFI-certified and SBA microlender serving the Latino and immigrant business community across the DC-Baltimore region.\n\n- Phone: (202) 540-7400\n- Source: https://founder-nav.com/programs/recXpQMssKImhGTj8\n\n---\nBrought to you by Founder Nav, helping entrepreneurs navigate the entrepreneurial ecosystem.
DTSTART:20260425T100038Z
DTEND:20260425T103038Z
END:VEVENT
END:VCALENDAR