BEGIN:VCALENDAR
VERSION:2.0
BEGIN:VEVENT
SUMMARY:Reach out to Unknown Hub about CIE Summer Accelerator
DESCRIPTION:Reach out to them for information about their program.\n\nDescription: Offers Cal Poly students and recent alumni a 12-week summer program to develop business models, receive mentorship, seed funding, and entrepreneurial training to launch scalable startups.\n\n- Phone: (805) 756-5171\n- Email: info-cie@calpoly.edu\n- Source: https://founder-nav.com/programs/recXmqYOYRupj4jKG\n\n---\nBrought to you by Founder Nav, helping entrepreneurs navigate the entrepreneurial ecosystem.
DTSTART:20260425T100003Z
DTEND:20260425T103003Z
END:VEVENT
END:VCALENDAR