BEGIN:VCALENDAR
VERSION:2.0
BEGIN:VEVENT
SUMMARY:Reach out to Prince George's County Economic Development Corporation about Executive Empowerment Series
DESCRIPTION:Reach out to them for information about their program.\n\nDescription: Part of the Grow Prince George's initiative, this series offers strategic business training workshops for established small and mid-sized businesses focused on technology tools and competitive skills.\n\n- Source: https://founder-nav.com/programs/recXjbXiTssfHQZYQ\n\n---\nBrought to you by Founder Nav, helping entrepreneurs navigate the entrepreneurial ecosystem.
DTSTART:20260425T100008Z
DTEND:20260425T103008Z
END:VEVENT
END:VCALENDAR