BEGIN:VCALENDAR
VERSION:2.0
BEGIN:VEVENT
SUMMARY:Reach out to Digital Bay Center about Viator Incubator Cohort
DESCRIPTION:Reach out to them for information about their program.\n\nDescription: A diversity-focused incubator cohort featuring weekly expert sessions covering legal, marketing, and capital access topics. Participants graduate through a Demo Day pitch competition. Associated with the Digital Diner food tech incubator located at 1229 Hull St, Locust Point, Baltimore. Designed to support underrepresented and diverse entrepreneurs building technology and food-tech ventures.\n\n- Source: https://founder-nav.com/programs/recXRklhdbj99BMtE\n\n---\nBrought to you by Founder Nav, helping entrepreneurs navigate the entrepreneurial ecosystem.
DTSTART:20260425T100030Z
DTEND:20260425T103030Z
END:VEVENT
END:VCALENDAR