BEGIN:VCALENDAR
VERSION:2.0
BEGIN:VEVENT
SUMMARY:Reach out to FORGE about Manufacturing Readiness Education & Startup Support
DESCRIPTION:Reach out to them for information about their program.\n\nDescription: FORGE helps CT hardtech startups navigate prototype to commercialization by providing manufacturing education, supplier introductions, and non-dilutive product development grants.\n\n- Email: adam@forgeimpact.org\n- Source: https://founder-nav.com/programs/recXQQK3EbWQlN9o4\n\n---\nBrought to you by Founder Nav, helping entrepreneurs navigate the entrepreneurial ecosystem.
DTSTART:20260425T100015Z
DTEND:20260425T103015Z
END:VEVENT
END:VCALENDAR