BEGIN:VCALENDAR
VERSION:2.0
BEGIN:VEVENT
SUMMARY:Reach out to Create Campaign, Inc. – A La Carte Kitchen Incubator about Spark Community Business Academy
DESCRIPTION:Reach out to them for information about their program.\n\nDescription: 12-week business development program using Rising Tide Capital's national curriculum, specifically designed to support minority and underserved entrepreneurs in building viable businesses.\n\n- Source: https://founder-nav.com/programs/recXPgihGb6uF0iWl\n\n---\nBrought to you by Founder Nav, helping entrepreneurs navigate the entrepreneurial ecosystem.
DTSTART:20260425T100007Z
DTEND:20260425T103007Z
END:VEVENT
END:VCALENDAR