BEGIN:VCALENDAR
VERSION:2.0
BEGIN:VEVENT
SUMMARY:Reach out to Black Small Business Association of California about BSBA 90-Minute Business Consultation
DESCRIPTION:Reach out to them for information about their program.\n\nDescription: A free 90-minute one-on-one consultation for Black-owned micro-businesses and independent contractors, providing personalized business guidance.\n\n- Email: INFO@BSBA-CA.ORG\n- Source: https://founder-nav.com/programs/recXLk0oWzRRQJdn4\n\n---\nBrought to you by Founder Nav, helping entrepreneurs navigate the entrepreneurial ecosystem.
DTSTART:20260425T100017Z
DTEND:20260425T103017Z
END:VEVENT
END:VCALENDAR