BEGIN:VCALENDAR
VERSION:2.0
BEGIN:VEVENT
SUMMARY:Reach out to Build Momentum — Ascend Accelerator about ASCEND Accelerator
DESCRIPTION:Reach out to them for information about their program.\n\nDescription: Accelerates sustainable capital for cleantech entrepreneurs in Sacramento by providing training, technical assistance, funding strategy, networking, and a stipend, with a focus on clean mobility and energy innovations to advance regional decarbonization goals.\n\n- Phone: (916) 444-3863\n- Email: ascend@buildmomentum.io\n- Source: https://founder-nav.com/programs/recXIn0a3Rm3BcnUZ\n\n---\nBrought to you by Founder Nav, helping entrepreneurs navigate the entrepreneurial ecosystem.
DTSTART:20260425T100015Z
DTEND:20260425T103015Z
END:VEVENT
END:VCALENDAR