BEGIN:VCALENDAR
VERSION:2.0
BEGIN:VEVENT
SUMMARY:Reach out to Trailhead about Startup World Cup Regional Qualifier
DESCRIPTION:Reach out to them for information about their program.\n\nDescription: A regional pitch competition hosted by Trailhead and Boise Entrepreneur Week in partnership with Pegasus Tech Ventures, giving startups a chance to win $1M and compete on a global stage.\n\n- Email: info@trailheadboise.org\n- Source: https://founder-nav.com/programs/recXE3SBW8PVg8V4a\n\n---\nBrought to you by Founder Nav, helping entrepreneurs navigate the entrepreneurial ecosystem.
DTSTART:20260425T100039Z
DTEND:20260425T103039Z
END:VEVENT
END:VCALENDAR