BEGIN:VCALENDAR
VERSION:2.0
BEGIN:VEVENT
SUMMARY:Reach out to Accelerate California about Accelerate California
DESCRIPTION:Reach out to them for information about their program.\n\nDescription: Statewide network of California ESO hubs offering no-cost workshops, advising, mentorships, and workforce development services to underserved and underrepresented entrepreneurs across California counties.\n\n- Source: https://founder-nav.com/programs/recX9HnEmXUASdN85\n\n---\nBrought to you by Founder Nav, helping entrepreneurs navigate the entrepreneurial ecosystem.
DTSTART:20260425T100005Z
DTEND:20260425T103005Z
END:VEVENT
END:VCALENDAR