BEGIN:VCALENDAR
VERSION:2.0
BEGIN:VEVENT
SUMMARY:Reach out to TEDCO about BRIDGE Program (Business Resource Information, Development & Guidance Ecosystem)
DESCRIPTION:Reach out to them for information about their program.\n\nDescription: A $10 million federally-funded regional program led by TEDCO providing comprehensive business resources to socially and economically disadvantaged individuals (SEDI) and very small businesses (<10 employees) across MD, DC, VA, and DE. Includes dedicated advisors, CDFI technical assistance, legal services, financial literacy, back-office support, and a Proposal Lab for government contracting.\n\n- Email: kmozingo@tedcomd.com\n- Source: https://founder-nav.com/programs/recX8G0rtcrCoaxLq\n\n---\nBrought to you by Founder Nav, helping entrepreneurs navigate the entrepreneurial ecosystem.
DTSTART:20260425T100025Z
DTEND:20260425T103025Z
END:VEVENT
END:VCALENDAR