BEGIN:VCALENDAR
VERSION:2.0
BEGIN:VEVENT
SUMMARY:Reach out to CEI – Ellsworth  about Child Care Business Lab (Incubator)
DESCRIPTION:Reach out to them for information about their program.\n\nDescription: A free incubator program helping aspiring child care business owners start and operate licensed, financially sustainable home-based or facility child care enterprises across Maine.\n\n- Email: childcare@ceimaine.org\n- Source: https://founder-nav.com/programs/recX2TfTVb4JooTbp\n\n---\nBrought to you by Founder Nav, helping entrepreneurs navigate the entrepreneurial ecosystem.
DTSTART:20260425T100001Z
DTEND:20260425T103001Z
END:VEVENT
END:VCALENDAR