BEGIN:VCALENDAR
VERSION:2.0
BEGIN:VEVENT
SUMMARY:Reach out to Renaissance Entrepreneurship Center – San Mateo about San Mateo County Entrepreneurship Program
DESCRIPTION:Reach out to them for information about their program.\n\nDescription: Business training and SBDC services for entrepreneurs in San Mateo County through Renaissance's San Mateo office. Offers business planning classes, one-on-one consulting, financial education, access to capital guidance, and networking opportunities as part of the US SBA San Mateo County SBDC partnership.\n\n- Phone: (415) 541-8580\n- Source: https://founder-nav.com/programs/recWyG4iTlMym93Ow\n\n---\nBrought to you by Founder Nav, helping entrepreneurs navigate the entrepreneurial ecosystem.
DTSTART:20260425T100009Z
DTEND:20260425T103009Z
END:VEVENT
END:VCALENDAR