BEGIN:VCALENDAR
VERSION:2.0
BEGIN:VEVENT
SUMMARY:Reach out to Techstars San Diego powered by San Diego State University about Techstars San Diego Accelerator (powered by SDSU)
DESCRIPTION:Reach out to them for information about their program.\n\nDescription: A prestigious 13-week accelerator at SDSU's Mission Valley Innovation District accepting 7-12 B2B/B2C tech companies per cohort. Provides $220K total investment ($200K uncapped MFN SAFE). Applications open April-June annually.\n\n- Phone: (619) 925-9055\n- Email: cpucher@sdsu.edu  \n- Source: https://founder-nav.com/programs/recWvCkGjtYY09OcV\n\n---\nBrought to you by Founder Nav, helping entrepreneurs navigate the entrepreneurial ecosystem.
DTSTART:20260425T100036Z
DTEND:20260425T103036Z
END:VEVENT
END:VCALENDAR