BEGIN:VCALENDAR
VERSION:2.0
BEGIN:VEVENT
SUMMARY:Reach out to Maine APEX Accelerator – (EMDC) about One-on-One Counseling & Technical Assistance
DESCRIPTION:Reach out to them for information about their program.\n\nDescription: Free, individualized procurement counseling and technical assistance for businesses in Hancock, Penobscot, Piscataquis, and Waldo Counties seeking to enter government markets. Maine APEX Procurement Counselors help businesses register, obtain certifications, identify opportunities, prepare bids, and manage government contracts.\n\n- Phone: (207) 974-3249\n- Email: maineapex@emdc.org\n- Source: https://founder-nav.com/programs/recWiUaN8w9BrFix9\n\n---\nBrought to you by Founder Nav, helping entrepreneurs navigate the entrepreneurial ecosystem.
DTSTART:20260425T100056Z
DTEND:20260425T103056Z
END:VEVENT
END:VCALENDAR