BEGIN:VCALENDAR
VERSION:2.0
BEGIN:VEVENT
SUMMARY:Reach out to Marin SBDC about SBDC Business Advising & Mentoring
DESCRIPTION:Reach out to them for information about their program.\n\nDescription: Provides confidential, no-cost business advising, training, and resources to help entrepreneurs and small businesses with funding, marketing, compliance, and growth at every stage, from startup to expansion or sale.\n\n- Phone: (415) 482-1819\n- Source: https://founder-nav.com/programs/recWdpai9OcVN9k94\n\n---\nBrought to you by Founder Nav, helping entrepreneurs navigate the entrepreneurial ecosystem.
DTSTART:20260425T100025Z
DTEND:20260425T103025Z
END:VEVENT
END:VCALENDAR