BEGIN:VCALENDAR
VERSION:2.0
BEGIN:VEVENT
SUMMARY:Reach out to Connecticut Small Business Development Center – Middlesex County about No-Cost One-on-One Business Advising
DESCRIPTION:Reach out to them for information about their program.\n\nDescription: No-cost, confidential one-on-one business advising from professional CTSBDC advisors covering business planning, marketing, operations, financials, and more for startups and existing businesses.\n\n- Email: ctsbdc@uconn.edu\n- Source: https://founder-nav.com/programs/recWUzgKaVwrXvc62\n\n---\nBrought to you by Founder Nav, helping entrepreneurs navigate the entrepreneurial ecosystem.
DTSTART:20260425T100041Z
DTEND:20260425T103041Z
END:VEVENT
END:VCALENDAR