BEGIN:VCALENDAR
VERSION:2.0
BEGIN:VEVENT
SUMMARY:Reach out to The Innovation Lab – Independence about Monthly E-commerce Panel Discussions
DESCRIPTION:Reach out to them for information about their program.\n\nDescription: Monthly panel discussions focused on e-commerce strategies, platforms, and best practices to help rural entrepreneurs grow their online business presence.\n\n- Email: hello@innovationlab.us\n- Source: https://founder-nav.com/programs/recWRGXY8d0xg62BD\n\n---\nBrought to you by Founder Nav, helping entrepreneurs navigate the entrepreneurial ecosystem.
DTSTART:20260425T100056Z
DTEND:20260425T103056Z
END:VEVENT
END:VCALENDAR