BEGIN:VCALENDAR
VERSION:2.0
BEGIN:VEVENT
SUMMARY:Reach out to Pacific Business Center Program (PBCP) about Technical Assistance for Pacific Entrepreneurs
DESCRIPTION:Reach out to them for information about their program.\n\nDescription: Technical assistance program by the Pacific Business Center Program (PBCP) providing business consulting, financial management guidance, marketing support, and regulatory assistance to Pacific Islander entrepreneurs in Hawaii and across the Pacific region.\n\n- Phone: (808) 956-6286\n- Email: pbcp@hawaii.edu\n- Source: https://founder-nav.com/programs/recVx6QfQa3MnnSTX\n\n---\nBrought to you by Founder Nav, helping entrepreneurs navigate the entrepreneurial ecosystem.
DTSTART:20260426T100047Z
DTEND:20260426T103047Z
END:VEVENT
END:VCALENDAR