BEGIN:VCALENDAR
VERSION:2.0
BEGIN:VEVENT
SUMMARY:Reach out to Plug and Play Topeka about Agtech Accelerator Program
DESCRIPTION:Reach out to them for information about their program.\n\nDescription: 9-month global accelerator for early-to-mid-stage agtech startups, connecting them with corporate partners, industry mentors, and business development resources in the Topeka region.\n\n- Source: https://founder-nav.com/programs/recVu4eyYZwI4yG2K\n\n---\nBrought to you by Founder Nav, helping entrepreneurs navigate the entrepreneurial ecosystem.
DTSTART:20260425T100013Z
DTEND:20260425T103013Z
END:VEVENT
END:VCALENDAR