BEGIN:VCALENDAR
VERSION:2.0
BEGIN:VEVENT
SUMMARY:Reach out to Youngstown Business Incubator (YBI) about The Last Tactical Mile: Additive Manufacturing for Metal Casting Workshop
DESCRIPTION:Reach out to them for information about their program.\n\nDescription: One-day intensive seminar for foundry technical personnel on applying 3D printing technologies alongside traditional metal casting processes to reduce lead times and improve competitiveness.\n\n- Phone: (330) 746-5003\n- Email: Info@YBI.org\n- Source: https://founder-nav.com/programs/recVsfDzlW5pAkQKl\n\n---\nBrought to you by Founder Nav, helping entrepreneurs navigate the entrepreneurial ecosystem.
DTSTART:20260421T100049Z
DTEND:20260421T103049Z
END:VEVENT
END:VCALENDAR