BEGIN:VCALENDAR
VERSION:2.0
BEGIN:VEVENT
SUMMARY:Reach out to Unknown Hub about Small Business Support Program
DESCRIPTION:Reach out to them for information about their program.\n\nDescription: Provides technical assistance, counseling, and certification support to help minority, woman, disabled, and veteran-owned construction businesses grow, with a focus on underserved areas in Connecticut. Services include webinars, outreach, and one-on-one guidance.\n\n- Phone: (860) 882-0675\n- Source: https://founder-nav.com/programs/recVhtCBY6s0Nwp2j\n\n---\nBrought to you by Founder Nav, helping entrepreneurs navigate the entrepreneurial ecosystem.
DTSTART:20260425T100017Z
DTEND:20260425T103017Z
END:VEVENT
END:VCALENDAR