BEGIN:VCALENDAR
VERSION:2.0
BEGIN:VEVENT
SUMMARY:Reach out to Southwest Idaho SBDC – Boise State University about One-on-One Business Consulting
DESCRIPTION:Reach out to them for information about their program.\n\nDescription: Free, confidential one-on-one business consulting at the Southwest Idaho SBDC, hosted at Boise State University. Advisors support entrepreneurs in the Treasure Valley with business planning, financing, marketing, and growth.\n\n- Phone: (208) 426-3875\n- Source: https://founder-nav.com/programs/recVekVD7Q4T1Ziy6\n\n---\nBrought to you by Founder Nav, helping entrepreneurs navigate the entrepreneurial ecosystem.
DTSTART:20260425T100004Z
DTEND:20260425T103004Z
END:VEVENT
END:VCALENDAR