BEGIN:VCALENDAR
VERSION:2.0
BEGIN:VEVENT
SUMMARY:Reach out to Okoboji Entrepreneurial Institute about Okoboji Entrepreneurial Institute (Week-long Intensive Program)
DESCRIPTION:Reach out to them for information about their program.\n\nDescription: Competitive 5-day August intensive at Lake Okoboji for Iowa college students featuring entrepreneur coaching, peer learning, pitch competitions and college credit.\n\n- Email: apetersen@lakescorridor.com\n- Source: https://founder-nav.com/programs/recVdpytz5C50u3Pn\n\n---\nBrought to you by Founder Nav, helping entrepreneurs navigate the entrepreneurial ecosystem.
DTSTART:20260425T100025Z
DTEND:20260425T103025Z
END:VEVENT
END:VCALENDAR