BEGIN:VCALENDAR
VERSION:2.0
BEGIN:VEVENT
SUMMARY:Reach out to Pipeline Entrepreneurs about Pipeline Pathfinder Program
DESCRIPTION:Reach out to them for information about their program.\n\nDescription: Year-long cohort program for early-stage founders from underserved Midwest communities (women, minority, rural) who are not yet working full-time on their startup, with four 2-day modules.\n\n- Phone: (913) 307-0004\n- Email: info@pipelineentrepreneurs.com\n- Source: https://founder-nav.com/programs/recVcsZFm2Mv2Irum\n\n---\nBrought to you by Founder Nav, helping entrepreneurs navigate the entrepreneurial ecosystem.
DTSTART:20260425T100052Z
DTEND:20260425T103052Z
END:VEVENT
END:VCALENDAR