BEGIN:VCALENDAR
VERSION:2.0
BEGIN:VEVENT
SUMMARY:Reach out to SCORE Greater Baltimore about SCORE Greater Baltimore Workshops & Webinars
DESCRIPTION:Reach out to them for information about their program.\n\nDescription: Offers low or no-cost training for small business owners and entrepreneurs, including interactive workshops, webinars, and online courses on topics like business planning, marketing, government contracting, and nonprofit management, taught by experienced mentors.\n\n- Phone: 1-800-634-0245\n- Source: https://founder-nav.com/programs/recVZpPEa4bCr2du8\n\n---\nBrought to you by Founder Nav, helping entrepreneurs navigate the entrepreneurial ecosystem.
DTSTART:20260425T100039Z
DTEND:20260425T103039Z
END:VEVENT
END:VCALENDAR