BEGIN:VCALENDAR
VERSION:2.0
BEGIN:VEVENT
SUMMARY:Reach out to Hawaii SBDC - Oʻahu about Business Advising (No-Cost, One-on-One)
DESCRIPTION:Reach out to them for information about their program.\n\nDescription: No-cost, confidential one-on-one business advising provided by the Hawaii Small Business Development Center (SBDC) Oahu office, an SBA-funded resource. Advisors assist with business planning, financial analysis, capital access, market research, growth strategies, and government contracting for Oahu-based businesses at any stage.\n\n- Phone: (808) 945-1430\n- Email: oahu@hisbdc.org\n- Source: https://founder-nav.com/programs/recVXAwgSzh4akZTV\n\n---\nBrought to you by Founder Nav, helping entrepreneurs navigate the entrepreneurial ecosystem.
DTSTART:20260425T100033Z
DTEND:20260425T103033Z
END:VEVENT
END:VCALENDAR