BEGIN:VCALENDAR
VERSION:2.0
BEGIN:VEVENT
SUMMARY:Reach out to Maui Economic Development Board about BusinessSPACE
DESCRIPTION:Reach out to them for information about their program.\n\nDescription: Accelerator program for entrepreneurs building businesses in the space economy and STEM-related sectors. Focuses on government contracting, federal procurement, and dual-use technology commercialization for Hawaii-based businesses.\n\n- Phone: (808) 875-2300\n- Email: info@medb.org\n- Source: https://founder-nav.com/programs/recVWkZMC4v76BVdM\n\n---\nBrought to you by Founder Nav, helping entrepreneurs navigate the entrepreneurial ecosystem.
DTSTART:20260425T100033Z
DTEND:20260425T103033Z
END:VEVENT
END:VCALENDAR