BEGIN:VCALENDAR
VERSION:2.0
BEGIN:VEVENT
SUMMARY:Reach out to Unknown Hub about Business Advising and Training
DESCRIPTION:Reach out to them for information about their program.\n\nDescription: Provides resources and support for small business owners, with a focus on women entrepreneurs. Services and grants have ended as of September 2023, with future support transitioning to a new host organization.\n\n- Phone: (860) 768-4100\n- Source: https://founder-nav.com/programs/recVTDJsKZBS0qj3j\n\n---\nBrought to you by Founder Nav, helping entrepreneurs navigate the entrepreneurial ecosystem.
DTSTART:20260425T100043Z
DTEND:20260425T103043Z
END:VEVENT
END:VCALENDAR