BEGIN:VCALENDAR
VERSION:2.0
BEGIN:VEVENT
SUMMARY:Reach out to Michigan SBDC Southeast Region about SBDC Small Business Consulting Services
DESCRIPTION:Reach out to them for information about their program.\n\nDescription: Accelerate your business’s success through personalized, one-on-one business consulting. We’ll help you with planning and growth strategies to meet your goals.\n\n- Source: https://founder-nav.com/programs/recVPmHRAUrCTV2oN\n\n---\nBrought to you by Founder Nav, helping entrepreneurs navigate the entrepreneurial ecosystem.
DTSTART:20260425T100005Z
DTEND:20260425T103005Z
END:VEVENT
END:VCALENDAR