BEGIN:VCALENDAR
VERSION:2.0
BEGIN:VEVENT
SUMMARY:Reach out to UC San Diego Office of Innovation & Commercialization about NSF I-Corps Program (UCSD)
DESCRIPTION:Reach out to them for information about their program.\n\nDescription: Provides resources, mentorship, and support to help transform ideas, research, and technologies into successful commercial ventures, fostering a diverse entrepreneurial ecosystem and promoting innovation across disciplines for societal and economic impact.\n\n- Phone: (858) 534-2230\n- Email: innovation@ucsd.edu\n- Source: https://founder-nav.com/programs/recVNefcK0yH1eorz\n\n---\nBrought to you by Founder Nav, helping entrepreneurs navigate the entrepreneurial ecosystem.
DTSTART:20260425T100059Z
DTEND:20260425T103059Z
END:VEVENT
END:VCALENDAR