BEGIN:VCALENDAR
VERSION:2.0
BEGIN:VEVENT
SUMMARY:Reach out to Avista Center for Entrepreneurship about Integrated Business Entrepreneurship (IBE) Certificate Program
DESCRIPTION:Reach out to them for information about their program.\n\nDescription: A 15-credit hybrid certificate program at North Idaho College preparing students to launch or work in a business venture. Covers business planning, operations, marketing, and financing.\n\n- Source: https://founder-nav.com/programs/recVEOr0xwT6mbxWU\n\n---\nBrought to you by Founder Nav, helping entrepreneurs navigate the entrepreneurial ecosystem.
DTSTART:20260425T100050Z
DTEND:20260425T103050Z
END:VEVENT
END:VCALENDAR