BEGIN:VCALENDAR
VERSION:2.0
BEGIN:VEVENT
SUMMARY:Reach out to CitySeed about Sanctuary Kitchen Culinary Training Program
DESCRIPTION:Reach out to them for information about their program.\n\nDescription: CitySeed's culinary training program for immigrant and refugee chefs in Greater New Haven, providing culinary arts instruction, job readiness training, and stipends.\n\n- Email: SanctuaryKitchen@cityseed.org\n- Source: https://founder-nav.com/programs/recUsobefeqhzlQn1\n\n---\nBrought to you by Founder Nav, helping entrepreneurs navigate the entrepreneurial ecosystem.
DTSTART:20260425T100028Z
DTEND:20260425T103028Z
END:VEVENT
END:VCALENDAR