BEGIN:VCALENDAR
VERSION:2.0
BEGIN:VEVENT
SUMMARY:Reach out to Office of Innovation & Commercialization (UH) about HITIDE (Hawaii Technology Innovation Development Ecosystem)
DESCRIPTION:Reach out to them for information about their program.\n\nDescription: A 12-24 month deep-tech incubator for UH-affiliated researchers, faculty, and students commercializing university innovations. Provides seed funding, lab access, mentorship, and commercialization support for technologies in clean energy, biotech, ocean science, and advanced manufacturing.\n\n- Phone: (808) 956-9024\n- Email: oic@hawaii.edu\n- Source: https://founder-nav.com/programs/recUn5HsP1rwq2zgv\n\n---\nBrought to you by Founder Nav, helping entrepreneurs navigate the entrepreneurial ecosystem.
DTSTART:20260425T100006Z
DTEND:20260425T103006Z
END:VEVENT
END:VCALENDAR