BEGIN:VCALENDAR
VERSION:2.0
BEGIN:VEVENT
SUMMARY:Reach out to Launch Alaska about Tech Deployment Track
DESCRIPTION:Reach out to them for information about their program.\n\nDescription: An 8-month climate tech deployment accelerator pairing mid-to-late stage startups with Alaska industry experts, partners, and customers to identify project opportunities and deploy clean energy, transportation, and industrial technologies.\n\n- Email: deploy@launchalaska.com\n- Source: https://founder-nav.com/programs/recUmbcMh3C7R47CE\n\n---\nBrought to you by Founder Nav, helping entrepreneurs navigate the entrepreneurial ecosystem.
DTSTART:20260425T100008Z
DTEND:20260425T103008Z
END:VEVENT
END:VCALENDAR