BEGIN:VCALENDAR
VERSION:2.0
BEGIN:VEVENT
SUMMARY:Reach out to The EDGE at 321 about The Edge Accelerator (12-Week Community Growth Accelerator)
DESCRIPTION:Reach out to them for information about their program.\n\nDescription: A 12-week intensive business accelerator program run by the Frederick Innovative Technology Center (FITCI) at The EDGE at 321 innovation center in Frederick, MD. Designed for both new and tenured founders to formalize their business, refine growth strategies, and prepare for investment. Culminates in a public Demo Day pitch competition with grand prize funding.\n\n- Source: https://founder-nav.com/programs/recUhwolvOF8Js8lI\n\n---\nBrought to you by Founder Nav, helping entrepreneurs navigate the entrepreneurial ecosystem.
DTSTART:20260426T100034Z
DTEND:20260426T103034Z
END:VEVENT
END:VCALENDAR