BEGIN:VCALENDAR
VERSION:2.0
BEGIN:VEVENT
SUMMARY:Reach out to Connecticut Small Business Development Center – Danbury about SMARTUp Program (Entrepreneurship Training for Startups)
DESCRIPTION:Reach out to them for information about their program.\n\nDescription: CTSBDC's structured entrepreneurship training program for aspiring and early-stage entrepreneurs in CT, with multilingual support and sessions covering business fundamentals, finance, and growth.\n\n- Phone: (860) 486-7829\n- Source: https://founder-nav.com/programs/recUazbZx88drySWH\n\n---\nBrought to you by Founder Nav, helping entrepreneurs navigate the entrepreneurial ecosystem.
DTSTART:20260425T100040Z
DTEND:20260425T103040Z
END:VEVENT
END:VCALENDAR