BEGIN:VCALENDAR
VERSION:2.0
BEGIN:VEVENT
SUMMARY:Reach out to Leatherby Center for Entrepreneurship and Business Ethics about Leatherby Center Inclusive Innovation Hub Programs
DESCRIPTION:Reach out to them for information about their program.\n\nDescription: Orange County's only Accelerate California Inclusive Innovation Hub, funded by CalOSBA. Eight specialized programs supporting underserved founder communities including female founders (WomenEntrepreneurs@Chapman), veterans (Boots to Books), people with disabilities, first-generation immigrants, and other underserved groups. Over $2.2M raised; 165+ founders supported; 8,000+ hours of mentorship delivered. Also includes Emprendedor@s program (Spanish-language entrepreneurship).\n\n- Email: entrepreneurs@chapman.edu\n- Source: https://founder-nav.com/programs/recUajh07fWL20lUh\n\n---\nBrought to you by Founder Nav, helping entrepreneurs navigate the entrepreneurial ecosystem.
DTSTART:20260425T100043Z
DTEND:20260425T103043Z
END:VEVENT
END:VCALENDAR