BEGIN:VCALENDAR
VERSION:2.0
BEGIN:VEVENT
SUMMARY:Reach out to CONNSTEP about Supply Chain Champion Program
DESCRIPTION:Reach out to them for information about their program.\n\nDescription: CONNSTEP's two-day intensive program teaching key strategies and tools for building resilient, agile, and future-ready supply chains.\n\n- Phone: (860) 513-3200\n- Email: info@connstep.org\n- Source: https://founder-nav.com/programs/recUZFNLHXGrymncO\n\n---\nBrought to you by Founder Nav, helping entrepreneurs navigate the entrepreneurial ecosystem.
DTSTART:20260425T100015Z
DTEND:20260425T103015Z
END:VEVENT
END:VCALENDAR