BEGIN:VCALENDAR
VERSION:2.0
BEGIN:VEVENT
SUMMARY:Reach out to Unknown Hub about HumanBulb Startup Accelerator Program
DESCRIPTION:Reach out to them for information about their program.\n\nDescription: Offers personalized training, global market insights, intensive sales coaching, and legal support to help founders in sectors like clean tech, AI, and advanced manufacturing scale their startups, with opportunities for investor exposure and pitch development in Sacramento.\n\n- Source: https://founder-nav.com/programs/recUYo4cuqgj4FOFU\n\n---\nBrought to you by Founder Nav, helping entrepreneurs navigate the entrepreneurial ecosystem.
DTSTART:20260425T100010Z
DTEND:20260425T103010Z
END:VEVENT
END:VCALENDAR